BEGIN:VCALENDAR
VERSION:2.0
PRODID:-//hacksw/handcal//NONSGML v1.0//EN
BEGIN:VEVENT
SUMMARY:4eme Grand Prix de Cyrano des Maitres
UID:5191e4ca-93eb-4ef5-b639-0cf650ea5d53
DTSTART:20260404T220000Z
DTEND:20260406T220000Z
LOCATION:Localisation Piscine Aqualud 24100 
CATEGORIES:Sportif
STATUS:
URL;VALUE=URI:https://www.cnbrive.fr/evenements/2026/04/05/4eme-grand-prix-de-cyrano-des-maitres-2438890
END:VEVENT
END:VCALENDAR
